BEGIN:VCALENDAR
VERSION:2.0
PRODID:-//kyohatsu//JP
CALSCALE:GREGORIAN
BEGIN:VEVENT
DTSTART;VALUE=DATE:20260612
SUMMARY:空気の教育　新装版
DESCRIPTION:外山 滋比古 筑摩書房
UID:9784480441065@kyohatsu.lb-product.com
END:VEVENT
END:VCALENDAR
