BEGIN:VCALENDAR
VERSION:2.0
PRODID:-//kyohatsu//JP
CALSCALE:GREGORIAN
BEGIN:VEVENT
DTSTART;VALUE=DATE:20260610
SUMMARY:ボイタボイネ 1
DESCRIPTION:夏草 マッグガーデン
UID:9784800017666@kyohatsu.lb-product.com
END:VEVENT
END:VCALENDAR
