BEGIN:VCALENDAR
VERSION:2.0
PRODID:-//kyohatsu//JP
CALSCALE:GREGORIAN
BEGIN:VEVENT
DTSTART;VALUE=DATE:20260610
SUMMARY:ボディスペシャル
DESCRIPTION:夏来唯 (株)ラインコミュニケーションズ
UID:4529971414273@kyohatsu.lb-product.com
END:VEVENT
END:VCALENDAR
