BEGIN:VCALENDAR
VERSION:2.0
PRODID:-//kyohatsu//JP
CALSCALE:GREGORIAN
BEGIN:VEVENT
DTSTART;VALUE=DATE:20260612
SUMMARY:太宰治との七年間
DESCRIPTION:堤 重久 筑摩書房
UID:9784480440839@kyohatsu.lb-product.com
END:VEVENT
END:VCALENDAR
