BEGIN:VCALENDAR
VERSION:2.0
PRODID:-//kyohatsu//JP
CALSCALE:GREGORIAN
BEGIN:VEVENT
DTSTART;VALUE=DATE:20260609
SUMMARY:堤ノート
DESCRIPTION:堤 治 小学館
UID:9784093898645@kyohatsu.lb-product.com
END:VEVENT
END:VCALENDAR
