BEGIN:VCALENDAR
VERSION:2.0
PRODID:-//kyohatsu//JP
CALSCALE:GREGORIAN
BEGIN:VEVENT
DTSTART;VALUE=DATE:20260507
SUMMARY:空き家と移住
DESCRIPTION:垣谷美雨 朝日新聞出版
UID:9784022521392@kyohatsu.lb-product.com
END:VEVENT
END:VCALENDAR
