BEGIN:VCALENDAR
VERSION:2.0
PRODID:-//kyohatsu//JP
CALSCALE:GREGORIAN
BEGIN:VEVENT
DTSTART;VALUE=DATE:20260605
SUMMARY:俺節　リマスター版（2）
DESCRIPTION:土田世紀 双葉社
UID:9784575441208@kyohatsu.lb-product.com
END:VEVENT
BEGIN:VEVENT
DTSTART;VALUE=DATE:20260605
SUMMARY:俺節　リマスター版（1）
DESCRIPTION:土田世紀 双葉社
UID:9784575441192@kyohatsu.lb-product.com
END:VEVENT
END:VCALENDAR
