BEGIN:VCALENDAR
VERSION:2.0
PRODID:-//kyohatsu//JP
CALSCALE:GREGORIAN
BEGIN:VEVENT
DTSTART;VALUE=DATE:20260615
SUMMARY:夜行堂奇譚 捌（8）
DESCRIPTION:嗣人 産業編集センター
UID:9784863114913@kyohatsu.lb-product.com
END:VEVENT
END:VCALENDAR
