BEGIN:VCALENDAR
VERSION:2.0
PRODID:-//kyohatsu//JP
CALSCALE:GREGORIAN
BEGIN:VEVENT
DTSTART;VALUE=DATE:20260605
SUMMARY:深川おせっかい長屋　約束の両国橋
DESCRIPTION:喜多川　侑 実業之日本社
UID:9784408560168@kyohatsu.lb-product.com
END:VEVENT
END:VCALENDAR
