BEGIN:VCALENDAR
VERSION:2.0
PRODID:-//kyohatsu//JP
CALSCALE:GREGORIAN
BEGIN:VEVENT
DTSTART;VALUE=DATE:20260515
SUMMARY:南朝　風姿花伝
DESCRIPTION:周 防柳 角川春樹事務所
UID:9784758415088@kyohatsu.lb-product.com
END:VEVENT
END:VCALENDAR
