BEGIN:VCALENDAR
VERSION:2.0
PRODID:-//kyohatsu//JP
CALSCALE:GREGORIAN
BEGIN:VEVENT
DTSTART;VALUE=DATE:20260501
SUMMARY:指輪物語　倭国の指輪（第2巻）
DESCRIPTION:向井啓 文芸社
UID:9784286271019@kyohatsu.lb-product.com
END:VEVENT
BEGIN:VEVENT
DTSTART;VALUE=DATE:20260501
SUMMARY:指輪物語　倭国の指輪（第3巻）
DESCRIPTION:向井啓 文芸社
UID:9784286271026@kyohatsu.lb-product.com
END:VEVENT
END:VCALENDAR
