BEGIN:VCALENDAR
VERSION:2.0
PRODID:-//kyohatsu//JP
CALSCALE:GREGORIAN
BEGIN:VEVENT
DTSTART;VALUE=DATE:20260513
SUMMARY:深川大番屋 悪行狩り 水軍の乱（第4巻）
DESCRIPTION:吉田 雄亮 コスミック出版
UID:9784774767277@kyohatsu.lb-product.com
END:VEVENT
END:VCALENDAR
