BEGIN:VCALENDAR
VERSION:2.0
PRODID:-//kyohatsu//JP
CALSCALE:GREGORIAN
BEGIN:VEVENT
DTSTART;VALUE=DATE:20260610
SUMMARY:永遠と横道世之介　上
DESCRIPTION:吉田 修一 文藝春秋
UID:9784167925154@kyohatsu.lb-product.com
END:VEVENT
BEGIN:VEVENT
DTSTART;VALUE=DATE:20260610
SUMMARY:永遠と横道世之介　下
DESCRIPTION:吉田 修一 文藝春秋
UID:9784167925161@kyohatsu.lb-product.com
END:VEVENT
END:VCALENDAR
