BEGIN:VCALENDAR
VERSION:2.0
PRODID:-//kyohatsu//JP
CALSCALE:GREGORIAN
BEGIN:VEVENT
DTSTART;VALUE=DATE:20260608
SUMMARY:人生の観察
DESCRIPTION:吉村 昭 河出書房新社
UID:9784309422725@kyohatsu.lb-product.com
END:VEVENT
END:VCALENDAR
