BEGIN:VCALENDAR
VERSION:2.0
PRODID:-//kyohatsu//JP
CALSCALE:GREGORIAN
BEGIN:VEVENT
DTSTART;VALUE=DATE:20260501
SUMMARY:吉川英治　大活字本シリーズ　新書太閤記　第1巻
DESCRIPTION:吉川英治 三和書籍
UID:9784862516428@kyohatsu.lb-product.com
END:VEVENT
END:VCALENDAR
