BEGIN:VCALENDAR
VERSION:2.0
PRODID:-//kyohatsu//JP
CALSCALE:GREGORIAN
BEGIN:VEVENT
DTSTART;VALUE=DATE:20260526
SUMMARY:黒い肌のサムライ 信長との短き日々
DESCRIPTION:吉川 永青 集英社
UID:9784087754773@kyohatsu.lb-product.com
END:VEVENT
END:VCALENDAR
