BEGIN:VCALENDAR
VERSION:2.0
PRODID:-//kyohatsu//JP
CALSCALE:GREGORIAN
BEGIN:VEVENT
DTSTART;VALUE=DATE:20260529
SUMMARY:横浜黄昏咄咄怪事　4
DESCRIPTION:吉川 景都 少年画報社
UID:9784785982065@kyohatsu.lb-product.com
END:VEVENT
END:VCALENDAR
