BEGIN:VCALENDAR
VERSION:2.0
PRODID:-//kyohatsu//JP
CALSCALE:GREGORIAN
BEGIN:VEVENT
DTSTART;VALUE=DATE:20260509
SUMMARY:やりたいことが わからないあなたへ
DESCRIPTION:吉岡 秀人 さくら舎
UID:9784865814965@kyohatsu.lb-product.com
END:VEVENT
END:VCALENDAR
