BEGIN:VCALENDAR
VERSION:2.0
PRODID:-//kyohatsu//JP
CALSCALE:GREGORIAN
BEGIN:VEVENT
DTSTART;VALUE=DATE:20260528
SUMMARY:僕はまだその“感情”を知らない 1
DESCRIPTION:吉原　雅彦 KADOKAWA
UID:9784048119290@kyohatsu.lb-product.com
END:VEVENT
END:VCALENDAR
