BEGIN:VCALENDAR
VERSION:2.0
PRODID:-//kyohatsu//JP
CALSCALE:GREGORIAN
BEGIN:VEVENT
DTSTART;VALUE=DATE:20260612
SUMMARY:CHANGE FOR THE BLUE！意識低い系ごみ拾いで世界を変える
DESCRIPTION:古澤 純一郎 A-Works
UID:9784911101025@kyohatsu.lb-product.com
END:VEVENT
END:VCALENDAR
