BEGIN:VCALENDAR
VERSION:2.0
PRODID:-//kyohatsu//JP
CALSCALE:GREGORIAN
BEGIN:VEVENT
DTSTART;VALUE=DATE:20260715
SUMMARY:【楽天ブックス限定先着特典】cloud nine(通常盤)(L判ブロマイド)
DESCRIPTION:古川慎 (株)バンダイナムコミュージックライブ
UID:4540774247219@kyohatsu.lb-product.com
END:VEVENT
BEGIN:VEVENT
DTSTART;VALUE=DATE:20260715
SUMMARY:【楽天ブックス限定先着特典】cloud nine(ししあんぐり盤)(L判ブロマイド)
DESCRIPTION:古川慎 (株)バンダイナムコミュージックライブ
UID:4540774347223@kyohatsu.lb-product.com
END:VEVENT
BEGIN:VEVENT
DTSTART;VALUE=DATE:20260715
SUMMARY:【楽天ブックス限定先着特典】cloud nine(古川 慎盤)(L判ブロマイド)
DESCRIPTION:古川慎 (株)バンダイナムコミュージックライブ
UID:4540774347216@kyohatsu.lb-product.com
END:VEVENT
END:VCALENDAR
