BEGIN:VCALENDAR
VERSION:2.0
PRODID:-//kyohatsu//JP
CALSCALE:GREGORIAN
BEGIN:VEVENT
DTSTART;VALUE=DATE:20260513
SUMMARY:＃台所のあるところ
DESCRIPTION:原田 ひ香 文藝春秋
UID:9784163920993@kyohatsu.lb-product.com
END:VEVENT
END:VCALENDAR
