BEGIN:VCALENDAR
VERSION:2.0
PRODID:-//kyohatsu//JP
CALSCALE:GREGORIAN
BEGIN:VEVENT
DTSTART;VALUE=DATE:20260601
SUMMARY:魔女は満月に咲く　5
DESCRIPTION:原悠衣 芳文社
UID:9784832206229@kyohatsu.lb-product.com
END:VEVENT
END:VCALENDAR
