BEGIN:VCALENDAR
VERSION:2.0
PRODID:-//kyohatsu//JP
CALSCALE:GREGORIAN
BEGIN:VEVENT
DTSTART;VALUE=DATE:20260605
SUMMARY:【楽天ブックス限定グッズ】GRIT -バレーボール男子日本代表 栄光への始発点ー Blu-ray豪華版【Blu-ray】(スマホショルダー)
DESCRIPTION:原嘉孝 TBS
UID:2100014865676@kyohatsu.lb-product.com
END:VEVENT
END:VCALENDAR
