BEGIN:VCALENDAR
VERSION:2.0
PRODID:-//kyohatsu//JP
CALSCALE:GREGORIAN
BEGIN:VEVENT
DTSTART;VALUE=DATE:20260501
SUMMARY:“赤シャツ”の娘
DESCRIPTION:原ナオ 文芸社
UID:9784286276342@kyohatsu.lb-product.com
END:VEVENT
END:VCALENDAR
