BEGIN:VCALENDAR
VERSION:2.0
PRODID:-//kyohatsu//JP
CALSCALE:GREGORIAN
BEGIN:VEVENT
DTSTART;VALUE=DATE:20260501
SUMMARY:不悉
DESCRIPTION:原あきよし 文芸社
UID:9784286275369@kyohatsu.lb-product.com
END:VEVENT
END:VCALENDAR
