BEGIN:VCALENDAR
VERSION:2.0
PRODID:-//kyohatsu//JP
CALSCALE:GREGORIAN
BEGIN:VEVENT
DTSTART;VALUE=DATE:20260618
SUMMARY:勇者遺族 1
DESCRIPTION:印牧 巻 集英社
UID:9784088940342@kyohatsu.lb-product.com
END:VEVENT
END:VCALENDAR
