BEGIN:VCALENDAR
VERSION:2.0
PRODID:-//kyohatsu//JP
CALSCALE:GREGORIAN
BEGIN:VEVENT
DTSTART;VALUE=DATE:20260812
SUMMARY:タイトル未定 (初回限定盤A 2CD＋Blu-ray)
DESCRIPTION:南條愛乃 (株)ワーナーミュージック・ジャパン
UID:4943674453702@kyohatsu.lb-product.com
END:VEVENT
BEGIN:VEVENT
DTSTART;VALUE=DATE:20260812
SUMMARY:【楽天ブックス限定先着特典】タイトル未定 (初回限定盤A 2CD＋Blu-ray)(A4クリアポスター)
DESCRIPTION:南條愛乃 (株)ワーナーミュージック・ジャパン
UID:2100014939988@kyohatsu.lb-product.com
END:VEVENT
BEGIN:VEVENT
DTSTART;VALUE=DATE:20260812
SUMMARY:【楽天ブックス限定先着特典】タイトル未定 (通常盤 2CD)(A4クリアポスター)
DESCRIPTION:南條愛乃 (株)ワーナーミュージック・ジャパン
UID:4943674453733@kyohatsu.lb-product.com
END:VEVENT
BEGIN:VEVENT
DTSTART;VALUE=DATE:20260812
SUMMARY:【楽天ブックス限定先着特典】タイトル未定 (初回限定盤B 2CD＋Blu-ray)(A4クリアポスター)
DESCRIPTION:南條愛乃 (株)ワーナーミュージック・ジャパン
UID:2100014939995@kyohatsu.lb-product.com
END:VEVENT
BEGIN:VEVENT
DTSTART;VALUE=DATE:20260812
SUMMARY:タイトル未定 (初回限定盤B 2CD＋Blu-ray)
DESCRIPTION:南條愛乃 (株)ワーナーミュージック・ジャパン
UID:4943674453719@kyohatsu.lb-product.com
END:VEVENT
END:VCALENDAR
