BEGIN:VCALENDAR
VERSION:2.0
PRODID:-//kyohatsu//JP
CALSCALE:GREGORIAN
BEGIN:VEVENT
DTSTART;VALUE=DATE:20260605
SUMMARY:姐御刑事
DESCRIPTION:南　英男 実業之日本社
UID:9784408560205@kyohatsu.lb-product.com
END:VEVENT
END:VCALENDAR
