BEGIN:VCALENDAR
VERSION:2.0
PRODID:-//kyohatsu//JP
CALSCALE:GREGORIAN
BEGIN:VEVENT
DTSTART;VALUE=DATE:20260624
SUMMARY:ゴールデン☆ベスト 千堂あきほ
DESCRIPTION:千堂あきほ (株)ワーナーミュージック・ジャパン
UID:4943674443215@kyohatsu.lb-product.com
END:VEVENT
END:VCALENDAR
