BEGIN:VCALENDAR
VERSION:2.0
PRODID:-//kyohatsu//JP
CALSCALE:GREGORIAN
BEGIN:VEVENT
DTSTART;VALUE=DATE:20260508
SUMMARY:女王の化粧師1
DESCRIPTION:千 花鶏 文藝春秋
UID:9784167925086@kyohatsu.lb-product.com
END:VEVENT
END:VCALENDAR
