BEGIN:VCALENDAR
VERSION:2.0
PRODID:-//kyohatsu//JP
CALSCALE:GREGORIAN
BEGIN:VEVENT
DTSTART;VALUE=DATE:20260527
SUMMARY:猫又黒兵衛　2
DESCRIPTION:十月士也 秋田書店
UID:9784253013741@kyohatsu.lb-product.com
END:VEVENT
END:VCALENDAR
