BEGIN:VCALENDAR
VERSION:2.0
PRODID:-//kyohatsu//JP
CALSCALE:GREGORIAN
BEGIN:VEVENT
DTSTART;VALUE=DATE:20260512
SUMMARY:赫き女王
DESCRIPTION:北里紗月 光文社
UID:9784334109943@kyohatsu.lb-product.com
END:VEVENT
END:VCALENDAR
