BEGIN:VCALENDAR
VERSION:2.0
PRODID:-//kyohatsu//JP
CALSCALE:GREGORIAN
BEGIN:VEVENT
DTSTART;VALUE=DATE:20260625
SUMMARY:ストロベリィ・ケイク 1
DESCRIPTION:北里 鮎 集英社
UID:9784088432700@kyohatsu.lb-product.com
END:VEVENT
END:VCALENDAR
