BEGIN:VCALENDAR
VERSION:2.0
PRODID:-//kyohatsu//JP
CALSCALE:GREGORIAN
BEGIN:VEVENT
DTSTART;VALUE=DATE:20260715
SUMMARY:戎橋ブルース(仮)
DESCRIPTION:北川裕二 キングレコード(株)
UID:4988003671938@kyohatsu.lb-product.com
END:VEVENT
END:VCALENDAR
