BEGIN:VCALENDAR
VERSION:2.0
PRODID:-//kyohatsu//JP
CALSCALE:GREGORIAN
BEGIN:VEVENT
DTSTART;VALUE=DATE:20260605
SUMMARY:ナイト・リセット・キロポスト＜下＞（2）
DESCRIPTION:勝見　ふうたろー KADOKAWA
UID:9784048119504@kyohatsu.lb-product.com
END:VEVENT
END:VCALENDAR
