BEGIN:VCALENDAR
VERSION:2.0
PRODID:-//kyohatsu//JP
CALSCALE:GREGORIAN
BEGIN:VEVENT
DTSTART;VALUE=DATE:20260622
SUMMARY:働くカメの攻略本 凡人が天才を上回る勝利のロジック
DESCRIPTION:勝村　和夫 KADOKAWA
UID:9784043300563@kyohatsu.lb-product.com
END:VEVENT
END:VCALENDAR
