BEGIN:VCALENDAR
VERSION:2.0
PRODID:-//kyohatsu//JP
CALSCALE:GREGORIAN
BEGIN:VEVENT
DTSTART;VALUE=DATE:20260512
SUMMARY:裂神
DESCRIPTION:加門七海 光文社
UID:9784334109929@kyohatsu.lb-product.com
END:VEVENT
END:VCALENDAR
