BEGIN:VCALENDAR
VERSION:2.0
PRODID:-//kyohatsu//JP
CALSCALE:GREGORIAN
BEGIN:VEVENT
DTSTART;VALUE=DATE:20260605
SUMMARY:定時までに解決します！2
DESCRIPTION:加藤　実秋 実業之日本社
UID:9784408560151@kyohatsu.lb-product.com
END:VEVENT
END:VCALENDAR
