BEGIN:VCALENDAR
VERSION:2.0
PRODID:-//kyohatsu//JP
CALSCALE:GREGORIAN
BEGIN:VEVENT
DTSTART;VALUE=DATE:20260525
SUMMARY:女王の烙印 6 〜滅びの国の夜伽巫女〜
DESCRIPTION:加藤 キャシー 集英社
UID:9784088552682@kyohatsu.lb-product.com
END:VEVENT
END:VCALENDAR
