BEGIN:VCALENDAR
VERSION:2.0
PRODID:-//kyohatsu//JP
CALSCALE:GREGORIAN
BEGIN:VEVENT
DTSTART;VALUE=DATE:20260526
SUMMARY:おばぶたん（1）
DESCRIPTION:加藤 みのり 小学館
UID:9784098734306@kyohatsu.lb-product.com
END:VEVENT
BEGIN:VEVENT
DTSTART;VALUE=DATE:20260528
SUMMARY:星のカービィ〜ゆるっとプププ〜きょろきょろ編
DESCRIPTION:加藤 みのり 小学館
UID:9784091542557@kyohatsu.lb-product.com
END:VEVENT
END:VCALENDAR
