BEGIN:VCALENDAR
VERSION:2.0
PRODID:-//kyohatsu//JP
CALSCALE:GREGORIAN
BEGIN:VEVENT
DTSTART;VALUE=DATE:20260624
SUMMARY:パルト
DESCRIPTION:加納 愛子 筑摩書房
UID:9784480815972@kyohatsu.lb-product.com
END:VEVENT
END:VCALENDAR
