BEGIN:VCALENDAR
VERSION:2.0
PRODID:-//kyohatsu//JP
CALSCALE:GREGORIAN
BEGIN:VEVENT
DTSTART;VALUE=DATE:20260625
SUMMARY:Re:blue 10
DESCRIPTION:加瀬 まつり 集英社
UID:9784088432694@kyohatsu.lb-product.com
END:VEVENT
END:VCALENDAR
