BEGIN:VCALENDAR
VERSION:2.0
PRODID:-//kyohatsu//JP
CALSCALE:GREGORIAN
BEGIN:VEVENT
DTSTART;VALUE=DATE:20260427
SUMMARY:東洋のカサノヴァと呼ばれた男
DESCRIPTION:前田一郎 幻冬舎
UID:9784344698833@kyohatsu.lb-product.com
END:VEVENT
END:VCALENDAR
