BEGIN:VCALENDAR
VERSION:2.0
PRODID:-//kyohatsu//JP
CALSCALE:GREGORIAN
BEGIN:VEVENT
DTSTART;VALUE=DATE:20260513
SUMMARY:がむしゃら　なぜ俺は、こんなに走るのかーー。
DESCRIPTION:前田 大然 幻冬舎
UID:9784344045804@kyohatsu.lb-product.com
END:VEVENT
END:VCALENDAR
