BEGIN:VCALENDAR
VERSION:2.0
PRODID:-//kyohatsu//JP
CALSCALE:GREGORIAN
BEGIN:VEVENT
DTSTART;VALUE=DATE:20260610
SUMMARY:『前橋ウィッチーズ』活動1周年記念ライブ 〜We are 前橋ウィッチーズ！〜【Blu-ray】
DESCRIPTION:前橋ウィッチーズ (株)バンダイナムコミュージックライブ
UID:4540774389582@kyohatsu.lb-product.com
END:VEVENT
BEGIN:VEVENT
DTSTART;VALUE=DATE:20260610
SUMMARY:【楽天ブックス限定先着特典】『前橋ウィッチーズ』活動1周年記念ライブ 〜We are 前橋ウィッチーズ！〜【Blu-ray】(A5キャラファイングラフ)
DESCRIPTION:前橋ウィッチーズ (株)バンダイナムコミュージックライブ
UID:2100014775845@kyohatsu.lb-product.com
END:VEVENT
END:VCALENDAR
