BEGIN:VCALENDAR
VERSION:2.0
PRODID:-//kyohatsu//JP
CALSCALE:GREGORIAN
BEGIN:VEVENT
DTSTART;VALUE=DATE:20260715
SUMMARY:Encall (数量限定盤 Type-A CD＋Blu-ray)
DESCRIPTION:前川優希 キングレコード(株)
UID:4988003672188@kyohatsu.lb-product.com
END:VEVENT
BEGIN:VEVENT
DTSTART;VALUE=DATE:20260715
SUMMARY:Encall (数量限定盤 Type-B CD＋Blu-ray)
DESCRIPTION:前川優希 キングレコード(株)
UID:4988003672195@kyohatsu.lb-product.com
END:VEVENT
END:VCALENDAR
