BEGIN:VCALENDAR
VERSION:2.0
PRODID:-//kyohatsu//JP
CALSCALE:GREGORIAN
BEGIN:VEVENT
DTSTART;VALUE=DATE:20260722
SUMMARY:【楽天ブックス限定先着特典】POLYPHONY (初回限定盤 CD＋Blu-ray)(複製サイン＆コメント入りブロマイド＋A4クリアファイル)
DESCRIPTION:前島亜美 
UID:2100014954196@kyohatsu.lb-product.com
END:VEVENT
BEGIN:VEVENT
DTSTART;VALUE=DATE:20260722
SUMMARY:POLYPHONY (初回限定盤 CD＋Blu-ray)
DESCRIPTION:前島亜美 キングレコード(株)
UID:4988003672454@kyohatsu.lb-product.com
END:VEVENT
BEGIN:VEVENT
DTSTART;VALUE=DATE:20260722
SUMMARY:【楽天ブックス限定先着特典】POLYPHONY (通常盤)(複製サイン＆コメント入りブロマイド＋A4クリアファイル)
DESCRIPTION:前島亜美 キングレコード(株)
UID:4988003672447@kyohatsu.lb-product.com
END:VEVENT
END:VCALENDAR
