BEGIN:VCALENDAR
VERSION:2.0
PRODID:-//kyohatsu//JP
CALSCALE:GREGORIAN
BEGIN:VEVENT
DTSTART;VALUE=DATE:20260529
SUMMARY:ごくりっ（7）
DESCRIPTION:前原 タケル 小学館
UID:9784098640096@kyohatsu.lb-product.com
END:VEVENT
END:VCALENDAR
