BEGIN:VCALENDAR
VERSION:2.0
PRODID:-//kyohatsu//JP
CALSCALE:GREGORIAN
BEGIN:VEVENT
DTSTART;VALUE=DATE:20260701
SUMMARY:【楽天ブックス限定先着特典】「マジカルミライ 2026」OFFICIAL ALBUM (限定盤)(アクリルカード)
DESCRIPTION:初音ミク 
UID:4511820132131@kyohatsu.lb-product.com
END:VEVENT
BEGIN:VEVENT
DTSTART;VALUE=DATE:20260701
SUMMARY:【楽天ブックス限定先着特典】「マジカルミライ 2026」OFFICIAL ALBUM （2層アクリルボード付限定盤）(アクリルカード)
DESCRIPTION:初音ミク 
UID:4907953617230@kyohatsu.lb-product.com
END:VEVENT
END:VCALENDAR
